BEGIN:VCALENDAR
VERSION:2.0
PRODID://MusicLiveCOLCHESTER//musiclivecolchester.com//EN
BEGIN:VEVENT
SUMMARY:Alan Barnes & Andy Panayi Sextet: Salute to Cannonball & Coltrane
DTSTART:20250615T193000
DTSTAMP:20260425T014925Z
UID:1173658635-alan-barnes-and-andy-panayi-sextet-salu
DESCRIPTION:Material arranged by Alan Barnes and Andy Panayi from the play
 books of John Coltrane and Cannonball Adderley
GEO:51.888742;0.8943686
LOCATION:Colchester Arts Centre
URL:https://musiclivecolchester.com/gigs/1173658635-alan-barnes-and-andy-p
 anayi-sextet-salu
END:VEVENT
END:VCALENDAR
