BEGIN:VCALENDAR
VERSION:2.0
PRODID://MusicLiveCOLCHESTER//musiclivecolchester.com//EN
BEGIN:VEVENT
SUMMARY:Alex Hitchcock Quintet
DTSTART:20250713T193000
DTSTAMP:20260424T220418Z
UID:1173658611-alex-hitchcock-quintet
DESCRIPTION:Distinctive improviser and a leading voice on the saxophone on
  the international stage
GEO:51.888742;0.8943686
LOCATION:Colchester Arts Centre
URL:https://musiclivecolchester.com/gigs/1173658611-alex-hitchcock-quintet
END:VEVENT
END:VCALENDAR
