BEGIN:VCALENDAR
VERSION:2.0
PRODID://MusicLiveCOLCHESTER//musiclivecolchester.com//EN
BEGIN:VEVENT
SUMMARY:Keeley Forsyth
DTSTART:20250506T200000
DTSTAMP:20260424T201221Z
UID:1173658429-keeley-forsyth-voice-piano-tour
DESCRIPTION:Voice and Piano Tour
GEO:51.888742;0.8943686
LOCATION:Colchester Arts Centre
URL:https://musiclivecolchester.com/gigs/1173658429-keeley-forsyth-voice-p
 iano-tour
END:VEVENT
END:VCALENDAR
