BEGIN:VCALENDAR
VERSION:2.0
PRODID://MusicLiveCOLCHESTER//musiclivecolchester.com//EN
BEGIN:VEVENT
SUMMARY:The Magic Numbers
DTSTART:20250610T193000
DTSTAMP:20260424T160542Z
UID:1173658389-the-magic-numbers
DESCRIPTION:One of the nation’s best-loved bands
GEO:51.888742;0.8943686
LOCATION:Colchester Arts Centre
URL:https://musiclivecolchester.com/gigs/1173658389-the-magic-numbers
END:VEVENT
END:VCALENDAR
