BEGIN:VCALENDAR
VERSION:2.0
PRODID://MusicLiveCOLCHESTER//musiclivecolchester.com//EN
BEGIN:VEVENT
SUMMARY:Espen Eriksen Trio
DTSTART:20250309T193000
DTSTAMP:20260424T194842Z
UID:1173658244-espen-eriksen-trio
DESCRIPTION:One of Europe's most popular jazz piano trios
GEO:51.888742;0.8943686
LOCATION:Colchester Arts Centre
URL:https://musiclivecolchester.com/gigs/1173658244-espen-eriksen-trio
END:VEVENT
END:VCALENDAR
