BEGIN:VCALENDAR
VERSION:2.0
PRODID://MusicLiveCOLCHESTER//musiclivecolchester.com//EN
BEGIN:VEVENT
SUMMARY:A Foreigner's Journey
DTSTART:20250607T193000
DTSTAMP:20260424T220300Z
UID:1173657867-a-foreigner-s-journey
DESCRIPTION:Tribute band
GEO:51.888742;0.8943686
LOCATION:Colchester Arts Centre
URL:https://musiclivecolchester.com/gigs/1173657867-a-foreigner-s-journey
END:VEVENT
END:VCALENDAR
