BEGIN:VCALENDAR
VERSION:2.0
PRODID://MusicLiveCOLCHESTER//musiclivecolchester.com//EN
BEGIN:VEVENT
SUMMARY:The Specials Ltd: 'Too Much Too Young'
DTSTART:20260124T190000
DTSTAMP:20260424T160921Z
UID:1173657726-the-specials-ltd-too-much-too-young
DESCRIPTION:Too Much Too Young 45th anniversary
GEO:51.888742;0.8943686
LOCATION:Colchester Arts Centre
URL:https://musiclivecolchester.com/gigs/1173657726-the-specials-ltd-too-m
 uch-too-young
END:VEVENT
END:VCALENDAR
