BEGIN:VCALENDAR
VERSION:2.0
PRODID://MusicLiveCOLCHESTER//musiclivecolchester.com//EN
BEGIN:VEVENT
SUMMARY:Gryphon
DTSTART:20250629T193000
DTSTAMP:20260424T194631Z
UID:1173657309-gryphon
DESCRIPTION:English progressive and medieval folk rock band formed in Lond
 on in 1972
GEO:51.888742;0.8943686
LOCATION:Colchester Arts Centre
URL:https://musiclivecolchester.com/gigs/1173657309-gryphon
END:VEVENT
END:VCALENDAR
