BEGIN:VCALENDAR
VERSION:2.0
PRODID://MusicLiveCOLCHESTER//musiclivecolchester.com//EN
BEGIN:VEVENT
SUMMARY:Christine Collister
DTSTART:20250915T200000
DTSTAMP:20260424T213910Z
UID:1173657260-christine-collister
DESCRIPTION:As powerful\, subtle and effortless as ever
GEO:51.888742;0.8943686
LOCATION:Colchester Arts Centre
URL:https://musiclivecolchester.com/gigs/1173657260-christine-collister
END:VEVENT
END:VCALENDAR
