BEGIN:VCALENDAR
VERSION:2.0
PRODID://MusicLiveCOLCHESTER//musiclivecolchester.com//EN
BEGIN:VEVENT
SUMMARY:Omar Perry & Easy Riddim Maker
DTSTART:20250311T200000
DTSTAMP:20260424T194800Z
UID:1173656809-omar-perry-easy-riddim-maker-a-tribute-
DESCRIPTION:CANCELLED
GEO:51.888742;0.8943686
LOCATION:Colchester Arts Centre
URL:https://musiclivecolchester.com/gigs/1173656809-omar-perry-easy-riddim
 -maker-a-tribute-
END:VEVENT
END:VCALENDAR
