BEGIN:VCALENDAR
VERSION:2.0
PRODID://MusicLiveCOLCHESTER//musiclivecolchester.com//EN
BEGIN:VEVENT
SUMMARY:The Style Councillors: 'Shout To The Top' 40th Anniversary
DTSTART:20250620T190000
DTSTAMP:20260424T181715Z
UID:1173656181-the-style-councillors-shout-to-the-top-
DESCRIPTION:Tribute band
GEO:51.888742;0.8943686
LOCATION:Colchester Arts Centre
URL:https://musiclivecolchester.com/gigs/1173656181-the-style-councillors-
 shout-to-the-top-
END:VEVENT
END:VCALENDAR
