BEGIN:VCALENDAR
VERSION:2.0
PRODID://MusicLiveCOLCHESTER//musiclivecolchester.com//EN
BEGIN:VEVENT
SUMMARY:The Luke Combs Experience
DTSTART:20250628T193000
DTSTAMP:20260424T220158Z
UID:1173655399-the-luke-combs-experience
DESCRIPTION:The UK's best tribute band to country superstar Luke Combs
GEO:51.888742;0.8943686
LOCATION:Colchester Arts Centre
URL:https://musiclivecolchester.com/gigs/1173655399-the-luke-combs-experie
 nce
END:VEVENT
END:VCALENDAR
