BEGIN:VCALENDAR
VERSION:2.0
PRODID://MusicLiveCOLCHESTER//musiclivecolchester.com//EN
BEGIN:VEVENT
SUMMARY:Tujiko Noriko + Mia Zabelka
DTSTART:20250206T200000
DTSTAMP:20260424T194842Z
UID:1173654660-tujiko-noriko-mia-zabelka
DESCRIPTION:Musician\, singer\, songwriter and filmmaker based in France
GEO:51.888742;0.8943686
LOCATION:Colchester Arts Centre
URL:https://musiclivecolchester.com/gigs/1173654660-tujiko-noriko-mia-zabe
 lka
END:VEVENT
END:VCALENDAR
