BEGIN:VCALENDAR
VERSION:2.0
PRODID://MusicLiveCOLCHESTER//musiclivecolchester.com//EN
BEGIN:VEVENT
SUMMARY:Neo Geodesia + Qubik
DTSTART:20240901T193000
DTSTAMP:20260424T232355Z
UID:1173653358-neo-geodesia-qubik
DESCRIPTION:French/Thai electronica fusing pirated tapes and videos of Khm
 er pop\, karaoke\, monk chants and movies
GEO:51.888742;0.8943686
LOCATION:Colchester Arts Centre
URL:https://musiclivecolchester.com/gigs/1173653358-neo-geodesia-qubik
END:VEVENT
END:VCALENDAR
