BEGIN:VCALENDAR
VERSION:2.0
PRODID://MusicLiveCOLCHESTER//musiclivecolchester.com//EN
BEGIN:VEVENT
SUMMARY:Martin Newell & The Hosepipe Band
DTSTART:20240710T200000
DTSTAMP:20260424T201933Z
UID:1173653318-martin-newell-the-hosepipe-band
DESCRIPTION:Singer-songwriter\, poet\, Psychedelic Gardener and Cleaner fr
 om Venus
GEO:51.888742;0.8943686
LOCATION:Colchester Arts Centre
URL:https://musiclivecolchester.com/gigs/1173653318-martin-newell-the-hose
 pipe-band
END:VEVENT
END:VCALENDAR
