BEGIN:VCALENDAR
VERSION:2.0
PRODID://MusicLiveCOLCHESTER//musiclivecolchester.com//EN
BEGIN:VEVENT
SUMMARY:Colchester Folk Club at 60: In Conversation with Vince Rayner and 
 Elaine Barker
DTSTART:20240519T113000
DTSTAMP:20260424T123630Z
UID:1173652144-colchester-folk-club-at-60-in-conversat
DESCRIPTION:
GEO:51.888742;0.8943686
LOCATION:Colchester Arts Centre
URL:https://musiclivecolchester.com/gigs/1173652144-colchester-folk-club-a
 t-60-in-conversat
END:VEVENT
END:VCALENDAR
