BEGIN:VCALENDAR
VERSION:2.0
PRODID://MusicLiveCOLCHESTER//musiclivecolchester.com//EN
BEGIN:VEVENT
SUMMARY:Megson: The Herald
DTSTART:20241006T193000
DTSTAMP:20260424T200158Z
UID:1173652110-megson-the-herald
DESCRIPTION:CANCELLED
GEO:51.888742;0.8943686
LOCATION:Colchester Arts Centre
URL:https://musiclivecolchester.com/gigs/1173652110-megson-the-herald
END:VEVENT
END:VCALENDAR
