BEGIN:VCALENDAR
VERSION:2.0
PRODID://MusicLiveCOLCHESTER//musiclivecolchester.com//EN
BEGIN:VEVENT
SUMMARY:The Rosie Hood Band + Suzy Cramer
DTSTART:20240408T200000
DTSTAMP:20260424T123630Z
UID:1173652005-the-rosie-hood-band
DESCRIPTION:
GEO:51.888742;0.8943686
LOCATION:Colchester Arts Centre
URL:https://musiclivecolchester.com/gigs/1173652005-the-rosie-hood-band
END:VEVENT
END:VCALENDAR
