BEGIN:VCALENDAR
VERSION:2.0
PRODID://MusicLiveCOLCHESTER//musiclivecolchester.com//EN
BEGIN:VEVENT
SUMMARY:What A Waste - The Ian Dury & The Blockheads Show
DTSTART:20240323T194500
DTSTAMP:20260424T163314Z
UID:1173651931-what-a-waste-the-ian-dury-the-blockhead
DESCRIPTION:Tribute to Ian Dury & The Blockheads
GEO:51.888742;0.8943686
LOCATION:Colchester Arts Centre
URL:https://musiclivecolchester.com/gigs/1173651931-what-a-waste-the-ian-d
 ury-the-blockhead
END:VEVENT
END:VCALENDAR
