BEGIN:VCALENDAR
VERSION:2.0
PRODID://MusicLiveCOLCHESTER//musiclivecolchester.com//EN
BEGIN:VEVENT
SUMMARY:The Churchfitters
DTSTART:20240304T200000
DTSTAMP:20260424T122149Z
UID:1173651807-the-churchfitters
DESCRIPTION:A folk band like no other
GEO:51.888742;0.8943686
LOCATION:Colchester Arts Centre
URL:https://musiclivecolchester.com/gigs/1173651807-the-churchfitters
END:VEVENT
END:VCALENDAR
