BEGIN:VCALENDAR
VERSION:2.0
PRODID://MusicLiveCOLCHESTER//musiclivecolchester.com//EN
BEGIN:VEVENT
SUMMARY:Conan + Wallowing + Goat Monsoon
DTSTART;VALUE=DATE:20240319
DTSTAMP:20260424T160841Z
UID:1173651293-conan-wallowing-goat-monsoon
DESCRIPTION:
GEO:51.888742;0.8943686
LOCATION:Colchester Arts Centre
URL:https://musiclivecolchester.com/gigs/1173651293-conan-wallowing-goat-m
 onsoon
END:VEVENT
END:VCALENDAR
