BEGIN:VCALENDAR
VERSION:2.0
PRODID://MusicLiveCOLCHESTER//musiclivecolchester.com//EN
BEGIN:VEVENT
SUMMARY:Malevolence + Pain of Truth + Rough Justice
DTSTART;VALUE=DATE:20240206
DTSTAMP:20260425T015116Z
UID:1173650513-malevolence-pain-of-truth-rough-justice
DESCRIPTION:
GEO:51.888742;0.8943686
LOCATION:Colchester Arts Centre
URL:https://musiclivecolchester.com/gigs/1173650513-malevolence-pain-of-tr
 uth-rough-justice
END:VEVENT
END:VCALENDAR
