BEGIN:VCALENDAR
VERSION:2.0
PRODID://MusicLiveCOLCHESTER//musiclivecolchester.com//EN
BEGIN:VEVENT
SUMMARY:Tom Meighan Acoustic
DTSTART:20240326T200000
DTSTAMP:20260425T014741Z
UID:1173649900-tom-meighan-acoustic
DESCRIPTION:
GEO:51.888742;0.8943686
LOCATION:Colchester Arts Centre
URL:https://musiclivecolchester.com/gigs/1173649900-tom-meighan-acoustic
END:VEVENT
END:VCALENDAR
