BEGIN:VCALENDAR
VERSION:2.0
PRODID://MusicLiveCOLCHESTER//musiclivecolchester.com//EN
BEGIN:VEVENT
SUMMARY:Harbottle & Jonas
DTSTART;VALUE=DATE:20240212
DTSTAMP:20260424T120819Z
UID:1173649669-harbottle-jonas
DESCRIPTION:
GEO:51.888742;0.8943686
LOCATION:Colchester Arts Centre
URL:https://musiclivecolchester.com/gigs/1173649669-harbottle-jonas
END:VEVENT
END:VCALENDAR
