BEGIN:VCALENDAR
VERSION:2.0
PRODID://MusicLiveCOLCHESTER//musiclivecolchester.com//EN
BEGIN:VEVENT
SUMMARY:Spiers & Boden
DTSTART:20240415T200000
DTSTAMP:20260424T121221Z
UID:1173649011-spiers-boden
DESCRIPTION:Highly acclaimed English traditional folk duo
GEO:51.888742;0.8943686
LOCATION:Colchester Arts Centre
URL:https://musiclivecolchester.com/gigs/1173649011-spiers-boden
END:VEVENT
END:VCALENDAR
