BEGIN:VCALENDAR
VERSION:2.0
PRODID://MusicLiveCOLCHESTER//musiclivecolchester.com//EN
BEGIN:VEVENT
SUMMARY:A Head Full of Coldplay
DTSTART:20240719T200000
DTSTAMP:20260424T183109Z
UID:1173647704-a-head-full-of-coldplay-a-celebration-o
DESCRIPTION:A celebration of the music of Coldplay
GEO:51.888742;0.8943686
LOCATION:Colchester Arts Centre
URL:https://musiclivecolchester.com/gigs/1173647704-a-head-full-of-coldpla
 y-a-celebration-o
END:VEVENT
END:VCALENDAR
