BEGIN:VCALENDAR
VERSION:2.0
PRODID://MusicLiveCOLCHESTER//musiclivecolchester.com//EN
BEGIN:VEVENT
SUMMARY:Emily Portman & Rob Harbron
DTSTART:20240325T193000
DTSTAMP:20260424T121349Z
UID:1173645668-emily-portman-rob-harbron
DESCRIPTION:
GEO:51.888742;0.8943686
LOCATION:Colchester Arts Centre
URL:https://musiclivecolchester.com/gigs/1173645668-emily-portman-rob-harb
 ron
END:VEVENT
END:VCALENDAR
