BEGIN:VCALENDAR
VERSION:2.0
PRODID://MusicLiveCOLCHESTER//musiclivecolchester.com//EN
BEGIN:VEVENT
SUMMARY:The Crazy World of Arthur Brown + Valhallans
DTSTART;VALUE=DATE:20240426
DTSTAMP:20260424T181715Z
UID:1173645453-the-crazy-world-of-arthur-brown-valhall
DESCRIPTION:Classic Rock and Prog Award-winning artist. Iconic shock rock 
 and theatrical rock legend
GEO:51.888742;0.8943686
LOCATION:Colchester Arts Centre
URL:https://musiclivecolchester.com/gigs/1173645453-the-crazy-world-of-art
 hur-brown-valhall
END:VEVENT
END:VCALENDAR
